BEGIN:VCALENDAR
VERSION:2.0
PRODID:-//wp-events-plugin.com//6.6.1//EN
BEGIN:VEVENT
UID:267@festival-internacional-csm.com
DTSTART:20231013T200000Z
DTEND:20231013T200000Z
DTSTAMP:20231006T224454Z
URL:https://www.festival-internacional-csm.com/events/los-hunnos-la-cultur
 a-del-rock-en-tamaulipas-3/
SUMMARY:Los Hunnos - La Cultura del Rock en Tamaulipas
DESCRIPTION:La propuesta del grupo proyectar el movimiento Rockandrollero a
  las nuevas generaciones y que las personas que vivieron la época\, tenga
 n la oportunidad de disfrutar los grandes éxitos del rock\n\nLos Hunnos e
 s un grupo que ha hecho música desde finales de los 60s\n\nGrupo musical 
 Los Hunnos\n\n 	Guitarra Líder: Guillermo Ensignia.\n 	Vocalista: Oscar M
 edina\n 	Bass eléctrico: Ricardo Reyes.\n 	Baterista: Alejandro Carrizale
 s\n 	Saxofón y teclado: Juan Martín Alvarado Hernández.\n
CATEGORIES:Talento Tamaulipeco
LOCATION:\, \, 
X-APPLE-STRUCTURED-LOCATION;VALUE=URI;X-ADDRESS=\, ;X-APPLE-RADIUS=100;X-TI
 TLE=:geo:0,0
END:VEVENT
END:VCALENDAR