BEGIN:VCALENDAR
VERSION:2.0
PRODID:-//wp-events-plugin.com//6.6.1//EN
BEGIN:VEVENT
UID:17@festival-internacional-csm.com
DTSTART:20231016T190000Z
DTEND:20231016T190000Z
DTSTAMP:20231004T150029Z
URL:https://www.festival-internacional-csm.com/events/ballet-folklorico-de
 -la-ciudad-de-mexico-maestra-silvia-lozano/
SUMMARY:Ballet Folclórico Nacional - "Maestra Silvia Lozano"
DESCRIPTION:Institución encargada de difundir\, preservar y promover la cu
 ltura de México\, tanto en nuestro país como en el extranjero\, bajo la 
 dirección de la Mtra. Silvia Lozano\, presenta escénicamente cuadros dan
 císticos que conservan los símbolos y el significado de siglos de tradic
 ión e historia\; de su conocimiento de la cultura y tradiciones mexicanas
 \, resultan producciones de completa autenticidad. Su deseo es mostrar la 
 belleza de la música\, danzas\, tradiciones y los diferentes atuendos de 
 nuestro país.
CATEGORIES:Nacional
LOCATION:\, \, 
X-APPLE-STRUCTURED-LOCATION;VALUE=URI;X-ADDRESS=\, ;X-APPLE-RADIUS=100;X-TI
 TLE=:geo:0,0
END:VEVENT
END:VCALENDAR